BEGIN:VCALENDAR
VERSION:2.0
PRODID:-//City of Madison - ECPv6.15.20//NONSGML v1.0//EN
CALSCALE:GREGORIAN
METHOD:PUBLISH
X-ORIGINAL-URL:https://www.ci.madison.mn.us
X-WR-CALDESC:Events for City of Madison
REFRESH-INTERVAL;VALUE=DURATION:PT1H
X-Robots-Tag:noindex
X-PUBLISHED-TTL:PT1H
BEGIN:VTIMEZONE
TZID:America/Chicago
BEGIN:DAYLIGHT
TZOFFSETFROM:-0600
TZOFFSETTO:-0500
TZNAME:CDT
DTSTART:20240310T080000
END:DAYLIGHT
BEGIN:STANDARD
TZOFFSETFROM:-0500
TZOFFSETTO:-0600
TZNAME:CST
DTSTART:20241103T070000
END:STANDARD
BEGIN:DAYLIGHT
TZOFFSETFROM:-0600
TZOFFSETTO:-0500
TZNAME:CDT
DTSTART:20250309T080000
END:DAYLIGHT
BEGIN:STANDARD
TZOFFSETFROM:-0500
TZOFFSETTO:-0600
TZNAME:CST
DTSTART:20251102T070000
END:STANDARD
BEGIN:DAYLIGHT
TZOFFSETFROM:-0600
TZOFFSETTO:-0500
TZNAME:CDT
DTSTART:20260308T080000
END:DAYLIGHT
BEGIN:STANDARD
TZOFFSETFROM:-0500
TZOFFSETTO:-0600
TZNAME:CST
DTSTART:20261101T070000
END:STANDARD
END:VTIMEZONE
BEGIN:VEVENT
DTSTART;VALUE=DATE:20251207
DTEND;VALUE=DATE:20251208
DTSTAMP:20260421T192912
CREATED:20250319T142247Z
LAST-MODIFIED:20250319T142255Z
UID:10000526-1765065600-1765151999@www.ci.madison.mn.us
SUMMARY:Christmas at the Museum
DESCRIPTION:
URL:https://www.ci.madison.mn.us/event/christmas-at-the-museum/
END:VEVENT
BEGIN:VEVENT
DTSTART;TZID=America/Chicago:20251208T170000
DTEND;TZID=America/Chicago:20251208T190000
DTSTAMP:20260421T192912
CREATED:20250106T155844Z
LAST-MODIFIED:20250106T155950Z
UID:10000504-1765213200-1765220400@www.ci.madison.mn.us
SUMMARY:City Council Meeting
DESCRIPTION:
URL:https://www.ci.madison.mn.us/event/city-council-meeting-6/2025-12-08/
END:VEVENT
BEGIN:VEVENT
DTSTART;VALUE=DATE:20251215
DTEND;VALUE=DATE:20251216
DTSTAMP:20260421T192912
CREATED:20250813T173601Z
LAST-MODIFIED:20250813T180053Z
UID:10000575-1765756800-1765843199@www.ci.madison.mn.us
SUMMARY:Utility Bill Due Date
DESCRIPTION:
URL:https://www.ci.madison.mn.us/event/utility-bill-due-date/2025-12-15/
END:VEVENT
BEGIN:VEVENT
DTSTART;TZID=America/Chicago:20251222T170000
DTEND;TZID=America/Chicago:20251222T190000
DTSTAMP:20260421T192912
CREATED:20250106T155844Z
LAST-MODIFIED:20250106T155950Z
UID:10000505-1766422800-1766430000@www.ci.madison.mn.us
SUMMARY:City Council Meeting
DESCRIPTION:
URL:https://www.ci.madison.mn.us/event/city-council-meeting-6/2025-12-22/
END:VEVENT
BEGIN:VEVENT
DTSTART;VALUE=DATE:20251225
DTEND;VALUE=DATE:20251226
DTSTAMP:20260421T192912
CREATED:20250106T154355Z
LAST-MODIFIED:20250106T154355Z
UID:10000482-1766620800-1766707199@www.ci.madison.mn.us
SUMMARY:City Hall Closed - Christmas Day
DESCRIPTION:
URL:https://www.ci.madison.mn.us/event/city-hall-closed-christmas-day/
END:VEVENT
END:VCALENDAR