BEGIN:VCALENDAR
VERSION:2.0
PRODID:-//City of Madison - ECPv6.15.20//NONSGML v1.0//EN
CALSCALE:GREGORIAN
METHOD:PUBLISH
X-ORIGINAL-URL:https://www.ci.madison.mn.us
X-WR-CALDESC:Events for City of Madison
REFRESH-INTERVAL;VALUE=DURATION:PT1H
X-Robots-Tag:noindex
X-PUBLISHED-TTL:PT1H
BEGIN:VTIMEZONE
TZID:America/Chicago
BEGIN:DAYLIGHT
TZOFFSETFROM:-0600
TZOFFSETTO:-0500
TZNAME:CDT
DTSTART:20200308T080000
END:DAYLIGHT
BEGIN:STANDARD
TZOFFSETFROM:-0500
TZOFFSETTO:-0600
TZNAME:CST
DTSTART:20201101T070000
END:STANDARD
BEGIN:DAYLIGHT
TZOFFSETFROM:-0600
TZOFFSETTO:-0500
TZNAME:CDT
DTSTART:20210314T080000
END:DAYLIGHT
BEGIN:STANDARD
TZOFFSETFROM:-0500
TZOFFSETTO:-0600
TZNAME:CST
DTSTART:20211107T070000
END:STANDARD
BEGIN:DAYLIGHT
TZOFFSETFROM:-0600
TZOFFSETTO:-0500
TZNAME:CDT
DTSTART:20220313T080000
END:DAYLIGHT
BEGIN:STANDARD
TZOFFSETFROM:-0500
TZOFFSETTO:-0600
TZNAME:CST
DTSTART:20221106T070000
END:STANDARD
END:VTIMEZONE
BEGIN:VEVENT
DTSTART;TZID=America/Chicago:20211113T090000
DTEND;TZID=America/Chicago:20211113T150000
DTSTAMP:20260425T225302
CREATED:20211110T185018Z
LAST-MODIFIED:20211110T185223Z
UID:10000194-1636794000-1636815600@www.ci.madison.mn.us
SUMMARY:38th Annual Norsefest Craft Show
DESCRIPTION:38th Annual Norsefest Craft Show from 9am-3pm at MMN Elementary.   Calvary Baptist Church youth will be serving coffee\, bars\, doughnuts and BBQ lunch.  Contact Becky Watson at 320-598-3311.
URL:https://www.ci.madison.mn.us/event/38th-annual-norsefest-craft-show/
LOCATION:MMN Elementary\, 316 4th Street\, Madison\, MN\, 56256\, United States
END:VEVENT
END:VCALENDAR